BEGIN:VCALENDAR
VERSION:2.0
PRODID:-//San Diego Chapter American Society Of Landscape Architects - ECPv6.15.20//NONSGML v1.0//EN
CALSCALE:GREGORIAN
METHOD:PUBLISH
X-WR-CALNAME:San Diego Chapter American Society Of Landscape Architects
X-ORIGINAL-URL:https://www.asla-sandiego.org
X-WR-CALDESC:Events for San Diego Chapter American Society Of Landscape Architects
REFRESH-INTERVAL;VALUE=DURATION:PT1H
X-Robots-Tag:noindex
X-PUBLISHED-TTL:PT1H
BEGIN:VTIMEZONE
TZID:America/Los_Angeles
BEGIN:DAYLIGHT
TZOFFSETFROM:-0800
TZOFFSETTO:-0700
TZNAME:PDT
DTSTART:20250309T100000
END:DAYLIGHT
BEGIN:STANDARD
TZOFFSETFROM:-0700
TZOFFSETTO:-0800
TZNAME:PST
DTSTART:20251102T090000
END:STANDARD
BEGIN:DAYLIGHT
TZOFFSETFROM:-0800
TZOFFSETTO:-0700
TZNAME:PDT
DTSTART:20260308T100000
END:DAYLIGHT
BEGIN:STANDARD
TZOFFSETFROM:-0700
TZOFFSETTO:-0800
TZNAME:PST
DTSTART:20261101T090000
END:STANDARD
BEGIN:DAYLIGHT
TZOFFSETFROM:-0800
TZOFFSETTO:-0700
TZNAME:PDT
DTSTART:20270314T100000
END:DAYLIGHT
BEGIN:STANDARD
TZOFFSETFROM:-0700
TZOFFSETTO:-0800
TZNAME:PST
DTSTART:20271107T090000
END:STANDARD
END:VTIMEZONE
BEGIN:VEVENT
DTSTART;VALUE=DATE:20260501
DTEND;VALUE=DATE:20260503
DTSTAMP:20260423T132925
CREATED:20260416T235934Z
LAST-MODIFIED:20260416T235943Z
UID:58661-1777604400-1777690799@www.asla-sandiego.org
SUMMARY:ASLA National Mid-Year Virtual Meetings (BOT and CPC)
DESCRIPTION:
URL:https://www.asla-sandiego.org/event/asla-national-mid-year-virtual-meetings-bot-and-cpc/
CATEGORIES:Meeting
ATTACH;FMTTYPE=image/jpeg:https://www.asla-sandiego.org/aslasdwp/wp-content/uploads/2025/07/board-meeting.jpg
END:VEVENT
BEGIN:VEVENT
DTSTART;TZID=America/Los_Angeles:20260520T180000
DTEND;TZID=America/Los_Angeles:20260520T190000
DTSTAMP:20260423T132925
CREATED:20260417T000425Z
LAST-MODIFIED:20260417T000628Z
UID:58671-1779300000-1779303600@www.asla-sandiego.org
SUMMARY:Executive Committee Meeting
DESCRIPTION:Virtual
URL:https://www.asla-sandiego.org/event/executive-committee-meeting-14/
CATEGORIES:Board Meeting
ATTACH;FMTTYPE=image/jpeg:https://www.asla-sandiego.org/aslasdwp/wp-content/uploads/2025/07/board-meeting.jpg
END:VEVENT
BEGIN:VEVENT
DTSTART;VALUE=DATE:20260522
DTEND;VALUE=DATE:20260524
DTSTAMP:20260423T132925
CREATED:20260417T000243Z
LAST-MODIFIED:20260417T000243Z
UID:58667-1779418800-1779505199@www.asla-sandiego.org
SUMMARY:Past President's Lunch
DESCRIPTION:
URL:https://www.asla-sandiego.org/event/past-presidents-lunch/
CATEGORIES:Meeting
ATTACH;FMTTYPE=image/jpeg:https://www.asla-sandiego.org/aslasdwp/wp-content/uploads/2025/07/board-meeting.jpg
END:VEVENT
BEGIN:VEVENT
DTSTART;TZID=America/Los_Angeles:20260525T120000
DTEND;TZID=America/Los_Angeles:20260525T130000
DTSTAMP:20260423T132925
CREATED:20260417T000332Z
LAST-MODIFIED:20260417T000332Z
UID:58669-1779710400-1779714000@www.asla-sandiego.org
SUMMARY:CCASLA Monthly Meeting
DESCRIPTION:
URL:https://www.asla-sandiego.org/event/ccasla-monthly-meeting-2/
CATEGORIES:Meeting
ATTACH;FMTTYPE=image/jpeg:https://www.asla-sandiego.org/aslasdwp/wp-content/uploads/2025/07/board-meeting.jpg
END:VEVENT
END:VCALENDAR