BEGIN:VCALENDAR
VERSION:2.0
PRODID:-//San Diego Chapter American Society Of Landscape Architects - ECPv6.15.20//NONSGML v1.0//EN
CALSCALE:GREGORIAN
METHOD:PUBLISH
X-ORIGINAL-URL:https://www.asla-sandiego.org
X-WR-CALDESC:Events for San Diego Chapter American Society Of Landscape Architects
REFRESH-INTERVAL;VALUE=DURATION:PT1H
X-Robots-Tag:noindex
X-PUBLISHED-TTL:PT1H
BEGIN:VTIMEZONE
TZID:America/Los_Angeles
BEGIN:DAYLIGHT
TZOFFSETFROM:-0800
TZOFFSETTO:-0700
TZNAME:PDT
DTSTART:20170312T100000
END:DAYLIGHT
BEGIN:STANDARD
TZOFFSETFROM:-0700
TZOFFSETTO:-0800
TZNAME:PST
DTSTART:20171105T090000
END:STANDARD
BEGIN:DAYLIGHT
TZOFFSETFROM:-0800
TZOFFSETTO:-0700
TZNAME:PDT
DTSTART:20180311T100000
END:DAYLIGHT
BEGIN:STANDARD
TZOFFSETFROM:-0700
TZOFFSETTO:-0800
TZNAME:PST
DTSTART:20181104T090000
END:STANDARD
BEGIN:DAYLIGHT
TZOFFSETFROM:-0800
TZOFFSETTO:-0700
TZNAME:PDT
DTSTART:20190310T100000
END:DAYLIGHT
BEGIN:STANDARD
TZOFFSETFROM:-0700
TZOFFSETTO:-0800
TZNAME:PST
DTSTART:20191103T090000
END:STANDARD
END:VTIMEZONE
BEGIN:VEVENT
DTSTART;TZID=America/Los_Angeles:20180314T180000
DTEND;TZID=America/Los_Angeles:20180314T200000
DTSTAMP:20260423T121335
CREATED:20180222T200648Z
LAST-MODIFIED:20180222T200648Z
UID:15623-1521050400-1521057600@www.asla-sandiego.org
SUMMARY:Stewardship Committee
DESCRIPTION:Join us at this month’s ASLASD Stewardship Committee Meeting @ 6:00pm at 3645 Ruffin Road\, Suite 235\, San Diego\, CA 92123. \nPlease RSVP to Michelle Landis at mlandis@studiowest-land.com
URL:https://www.asla-sandiego.org/event/stewardship-committee-15/
LOCATION:Studio West Landscape\, 3645 Ruffin Road\, Suite 235\, San Diego\, CA\, 92123\, United States
CATEGORIES:Stewardship Committee
ORGANIZER;CN="Michelle Landis":MAILTO:mlandis@studiowest-land.com
END:VEVENT
END:VCALENDAR