BEGIN:VCALENDAR
VERSION:2.0
PRODID:-//San Diego Chapter American Society Of Landscape Architects - ECPv6.15.20//NONSGML v1.0//EN
CALSCALE:GREGORIAN
METHOD:PUBLISH
X-WR-CALNAME:San Diego Chapter American Society Of Landscape Architects
X-ORIGINAL-URL:https://www.asla-sandiego.org
X-WR-CALDESC:Events for San Diego Chapter American Society Of Landscape Architects
REFRESH-INTERVAL;VALUE=DURATION:PT1H
X-Robots-Tag:noindex
X-PUBLISHED-TTL:PT1H
BEGIN:VTIMEZONE
TZID:America/Los_Angeles
BEGIN:DAYLIGHT
TZOFFSETFROM:-0800
TZOFFSETTO:-0700
TZNAME:PDT
DTSTART:20160313T100000
END:DAYLIGHT
BEGIN:STANDARD
TZOFFSETFROM:-0700
TZOFFSETTO:-0800
TZNAME:PST
DTSTART:20161106T090000
END:STANDARD
BEGIN:DAYLIGHT
TZOFFSETFROM:-0800
TZOFFSETTO:-0700
TZNAME:PDT
DTSTART:20170312T100000
END:DAYLIGHT
BEGIN:STANDARD
TZOFFSETFROM:-0700
TZOFFSETTO:-0800
TZNAME:PST
DTSTART:20171105T090000
END:STANDARD
BEGIN:DAYLIGHT
TZOFFSETFROM:-0800
TZOFFSETTO:-0700
TZNAME:PDT
DTSTART:20180311T100000
END:DAYLIGHT
BEGIN:STANDARD
TZOFFSETFROM:-0700
TZOFFSETTO:-0800
TZNAME:PST
DTSTART:20181104T090000
END:STANDARD
END:VTIMEZONE
BEGIN:VEVENT
DTSTART;TZID=America/Los_Angeles:20170412T180000
DTEND;TZID=America/Los_Angeles:20170412T200000
DTSTAMP:20260425T055040
CREATED:20170216T191935Z
LAST-MODIFIED:20170216T191935Z
UID:14682-1492020000-1492027200@www.asla-sandiego.org
SUMMARY:Stewardship Committee
DESCRIPTION:Join us at this month’s ASLASD Stewardship Committee Meeting @ 6pm at 4343 Moreno Blvd\, #9\, San Diego\, CA  92117-4340. \nRSVP to Jackie Higgins at Jackie@c2cld.com
URL:https://www.asla-sandiego.org/event/stewardship-committee-3/
LOCATION:Coast to Coast LA\, 4343 Moreno Blvd\, #9\, San Diego\, CA\, 92117-4340\, United States
CATEGORIES:Stewardship Committee
END:VEVENT
END:VCALENDAR