BEGIN:VCALENDAR
VERSION:2.0
PRODID:-//San Diego Chapter American Society Of Landscape Architects - ECPv6.15.20//NONSGML v1.0//EN
CALSCALE:GREGORIAN
METHOD:PUBLISH
X-WR-CALNAME:San Diego Chapter American Society Of Landscape Architects
X-ORIGINAL-URL:https://www.asla-sandiego.org
X-WR-CALDESC:Events for San Diego Chapter American Society Of Landscape Architects
REFRESH-INTERVAL;VALUE=DURATION:PT1H
X-Robots-Tag:noindex
X-PUBLISHED-TTL:PT1H
BEGIN:VTIMEZONE
TZID:America/Los_Angeles
BEGIN:DAYLIGHT
TZOFFSETFROM:-0800
TZOFFSETTO:-0700
TZNAME:PDT
DTSTART:20240310T100000
END:DAYLIGHT
BEGIN:STANDARD
TZOFFSETFROM:-0700
TZOFFSETTO:-0800
TZNAME:PST
DTSTART:20241103T090000
END:STANDARD
BEGIN:DAYLIGHT
TZOFFSETFROM:-0800
TZOFFSETTO:-0700
TZNAME:PDT
DTSTART:20250309T100000
END:DAYLIGHT
BEGIN:STANDARD
TZOFFSETFROM:-0700
TZOFFSETTO:-0800
TZNAME:PST
DTSTART:20251102T090000
END:STANDARD
BEGIN:DAYLIGHT
TZOFFSETFROM:-0800
TZOFFSETTO:-0700
TZNAME:PDT
DTSTART:20260308T100000
END:DAYLIGHT
BEGIN:STANDARD
TZOFFSETFROM:-0700
TZOFFSETTO:-0800
TZNAME:PST
DTSTART:20261101T090000
END:STANDARD
END:VTIMEZONE
BEGIN:VEVENT
DTSTART;TZID=America/Los_Angeles:20250918T180000
DTEND;TZID=America/Los_Angeles:20250918T210000
DTSTAMP:20260423T134609
CREATED:20250821T223053Z
LAST-MODIFIED:20250915T201445Z
UID:57954-1758218400-1758229200@www.asla-sandiego.org
SUMMARY:Decarbonizing the Design Process: A Phase by Phase Approach for Landscape Architects
DESCRIPTION:Join us at the Museum of Contemporary Art\, La Jolla\, for a powerful lecture by Alejandra Hinojosa\, ASLA on Decarbonizing the Design Process. Alejandra will present insights on: \n\nDecarbonizing the Design Process\nDecarbonizing Specifications\n\nThe lecture will also include key considerations\, real-world applications\, and essential resources to integrate carbon budgeting into the design process. Alejandra will provide recommendations for material specification using the Construction Specifications Institute (CSI) 2014 framework. \nAbout Alejandra Hinojosa: She brings years of expertise advancing climate-positive design and material transparency. At LPA Design Studios\, she leads sustainability initiatives that integrate decarbonization strategies across diverse project types. As Co-Chair of ASLA’s National Climate Action Committee\, she plays a pivotal role in shaping the profession’s response to climate change\, helping author national guidelines that give landscape architects practical tools to reduce carbon and build resilience. \nRegister here:\nhttps://lp.constantcontactpages.com/ev/reg/9wkgtyb/lp/fa7e0a10-a59e-48bc-af74-acf5c36cd821 \nTHIS EVENT GENEROUSLY SPONSORED BY:
URL:https://www.asla-sandiego.org/event/decarbonizing-the-design-process-a-phase-by-phase-approach-for-landscape-architects/
LOCATION:Museum of Contemporary Art La Jolla\, 700 Prospect Street\, La jolla\, CA\, 92037\, United States
CATEGORIES:Industry Event
ATTACH;FMTTYPE=image/png:https://www.asla-sandiego.org/aslasdwp/wp-content/uploads/2025/08/decarbonizing-design.png
END:VEVENT
BEGIN:VEVENT
DTSTART;TZID=America/Los_Angeles:20250915T173000
DTEND;TZID=America/Los_Angeles:20250915T190000
DTSTAMP:20260423T134609
CREATED:20250805T190045Z
LAST-MODIFIED:20250806T144655Z
UID:56007-1757957400-1757962800@www.asla-sandiego.org
SUMMARY:SAVE THE DATE: San Diego Welcomes Milenko Matanovic
DESCRIPTION:Join us this September as San Diego welcomes Milenko Matanovic\, acclaimed artist\, community-builder\, and founder of the Pomegranate Center\, for two inspiring events that explore how we gather\, collaborate\, and engage communities in the design and planning of meaningful public spaces. Drawing on his experiences as an artist and immigrant\, Milenko offers a compelling framework for transforming community meetings into collaborative\, productive\, and even joyful gatherings. \nThese events are free and open to the public\, made possible by the generous support of the Prebys Foundation\, the City of San Diego\, San Diego ART Matters\, and the Clare Rose Center for Creative Youth Development. \nDon’t miss this opportunity to explore creative tools for community engagement and public space transformation! \nPresentation:\nSeptember 15 | 5:30–7:00 PM\nSanta Fe Room\, Balboa Park Club \nTraining Workshop:\nSeptember 19 | 9:30 AM–4:00 PM\nARTS (A Reason To Survive)\, National City \nSign up for updates and event details:\nhttps://bit.ly/SanDiegoWelcomesMilenko
URL:https://www.asla-sandiego.org/event/milenko-matanovic-the-pomegranate-method-lessons-learned-from-a-lifetime-of-art-community-building-and-gathering-places/
LOCATION:Balboa Park Santa Fe Room\, 2144 Pan American W Rd\, San Diego\, California\, 92101
CATEGORIES:Industry Event
ATTACH;FMTTYPE=image/jpeg:https://www.asla-sandiego.org/aslasdwp/wp-content/uploads/2025/08/milenko.jpg
END:VEVENT
BEGIN:VEVENT
DTSTART;TZID=America/Los_Angeles:20250910T150000
DTEND;TZID=America/Los_Angeles:20250910T161500
DTSTAMP:20260423T134609
CREATED:20250805T191053Z
LAST-MODIFIED:20250805T191314Z
UID:56016-1757516400-1757520900@www.asla-sandiego.org
SUMMARY:CREF Webinar - Compost Specifications and How to Meet Them
DESCRIPTION:The Compost Research & Education Foundation\, has an upcoming webinar titled “Compost Specifications & How to Meet Them.” \nWhen: September 10 \nJoin:https://www.compostingcouncil.org/event/cref-webinar-specifications \nWebinar Cost: $19 for USCC members\, $29 for non-members \nSpeaker Howard Stenn (RLA from Washington State) will cover: \n\nPromoting simple specifications that ensure quality without complications.\nProblem specifications and how to deal with them.\nThe causes of most landscape soil failures: Compost quality is rarely the problem.\nTroubleshooting failures and upholding your product.\n\nREGISTER HERE
URL:https://www.asla-sandiego.org/event/cref-webinar-compost-specifications-and-how-to-meet-them/
LOCATION:CA
CATEGORIES:Industry Event,Webinar
ATTACH;FMTTYPE=image/jpeg:https://www.asla-sandiego.org/aslasdwp/wp-content/uploads/2025/08/compost-webinar.jpg
END:VEVENT
END:VCALENDAR