BEGIN:VCALENDAR
VERSION:2.0
PRODID:-//San Diego Chapter American Society Of Landscape Architects - ECPv6.15.20//NONSGML v1.0//EN
CALSCALE:GREGORIAN
METHOD:PUBLISH
X-WR-CALNAME:San Diego Chapter American Society Of Landscape Architects
X-ORIGINAL-URL:https://www.asla-sandiego.org
X-WR-CALDESC:Events for San Diego Chapter American Society Of Landscape Architects
REFRESH-INTERVAL;VALUE=DURATION:PT1H
X-Robots-Tag:noindex
X-PUBLISHED-TTL:PT1H
BEGIN:VTIMEZONE
TZID:America/Los_Angeles
BEGIN:DAYLIGHT
TZOFFSETFROM:-0800
TZOFFSETTO:-0700
TZNAME:PDT
DTSTART:20180311T100000
END:DAYLIGHT
BEGIN:STANDARD
TZOFFSETFROM:-0700
TZOFFSETTO:-0800
TZNAME:PST
DTSTART:20181104T090000
END:STANDARD
BEGIN:DAYLIGHT
TZOFFSETFROM:-0800
TZOFFSETTO:-0700
TZNAME:PDT
DTSTART:20190310T100000
END:DAYLIGHT
BEGIN:STANDARD
TZOFFSETFROM:-0700
TZOFFSETTO:-0800
TZNAME:PST
DTSTART:20191103T090000
END:STANDARD
BEGIN:DAYLIGHT
TZOFFSETFROM:-0800
TZOFFSETTO:-0700
TZNAME:PDT
DTSTART:20200308T100000
END:DAYLIGHT
BEGIN:STANDARD
TZOFFSETFROM:-0700
TZOFFSETTO:-0800
TZNAME:PST
DTSTART:20201101T090000
END:STANDARD
END:VTIMEZONE
BEGIN:VEVENT
DTSTART;TZID=America/Los_Angeles:20191023T180000
DTEND;TZID=America/Los_Angeles:20191023T200000
DTSTAMP:20260424T051654
CREATED:20190510T213509Z
LAST-MODIFIED:20191007T193021Z
UID:17184-1571853600-1571860800@www.asla-sandiego.org
SUMMARY:Emerging Professionals Meetings– LARE Review Session
DESCRIPTION:Emerging Professionals Meetings– Wednesday October 23\, 2019 6pm \nLARE Review Session \nRick Engineering\, RSVP to ERowan@rickengineering.com
URL:https://www.asla-sandiego.org/event/emerging-professionals-meetings-1st-wednesday/
LOCATION:Rick Engineering\, 5620 Friars Road\, San Diego\, 92110
CATEGORIES:Emerging Professionals Committee
END:VEVENT
END:VCALENDAR