BEGIN:VCALENDAR
VERSION:2.0
PRODID:-//San Diego Chapter American Society Of Landscape Architects - ECPv6.15.20//NONSGML v1.0//EN
CALSCALE:GREGORIAN
METHOD:PUBLISH
X-ORIGINAL-URL:https://www.asla-sandiego.org
X-WR-CALDESC:Events for San Diego Chapter American Society Of Landscape Architects
REFRESH-INTERVAL;VALUE=DURATION:PT1H
X-Robots-Tag:noindex
X-PUBLISHED-TTL:PT1H
BEGIN:VTIMEZONE
TZID:America/Los_Angeles
BEGIN:DAYLIGHT
TZOFFSETFROM:-0800
TZOFFSETTO:-0700
TZNAME:PDT
DTSTART:20180311T100000
END:DAYLIGHT
BEGIN:STANDARD
TZOFFSETFROM:-0700
TZOFFSETTO:-0800
TZNAME:PST
DTSTART:20181104T090000
END:STANDARD
BEGIN:DAYLIGHT
TZOFFSETFROM:-0800
TZOFFSETTO:-0700
TZNAME:PDT
DTSTART:20190310T100000
END:DAYLIGHT
BEGIN:STANDARD
TZOFFSETFROM:-0700
TZOFFSETTO:-0800
TZNAME:PST
DTSTART:20191103T090000
END:STANDARD
BEGIN:DAYLIGHT
TZOFFSETFROM:-0800
TZOFFSETTO:-0700
TZNAME:PDT
DTSTART:20200308T100000
END:DAYLIGHT
BEGIN:STANDARD
TZOFFSETFROM:-0700
TZOFFSETTO:-0800
TZNAME:PST
DTSTART:20201101T090000
END:STANDARD
END:VTIMEZONE
BEGIN:VEVENT
DTSTART;TZID=America/Los_Angeles:20190206T180000
DTEND;TZID=America/Los_Angeles:20190206T200000
DTSTAMP:20260425T170943
CREATED:20190109T211400Z
LAST-MODIFIED:20190128T225018Z
UID:16703-1549476000-1549483200@www.asla-sandiego.org
SUMMARY:Emerging Professionals Committee
DESCRIPTION:Emerging Professionals Committee – 6 pm\, GMP\, 4010 Sorrento Valley Blvd\, Suite 200\, \nSan Diego\, CA 92126 RSVP to KBarreto@gmplandarch.com
URL:https://www.asla-sandiego.org/event/emerging-professionals-committee-11/
LOCATION:GMP Landscape Architects\, 4010 Sorrento Valley Blvd\, Suite 200\, San Diego\, CA\, 92121
CATEGORIES:Emerging Professionals Committee
ORGANIZER;CN="Katie Barreto":MAILTO:katie@gmplandarch.com
END:VEVENT
END:VCALENDAR