BEGIN:VCALENDAR
VERSION:2.0
PRODID:-//San Diego Chapter American Society Of Landscape Architects - ECPv6.15.20//NONSGML v1.0//EN
CALSCALE:GREGORIAN
METHOD:PUBLISH
X-WR-CALNAME:San Diego Chapter American Society Of Landscape Architects
X-ORIGINAL-URL:https://www.asla-sandiego.org
X-WR-CALDESC:Events for San Diego Chapter American Society Of Landscape Architects
REFRESH-INTERVAL;VALUE=DURATION:PT1H
X-Robots-Tag:noindex
X-PUBLISHED-TTL:PT1H
BEGIN:VTIMEZONE
TZID:America/Los_Angeles
BEGIN:DAYLIGHT
TZOFFSETFROM:-0800
TZOFFSETTO:-0700
TZNAME:PDT
DTSTART:20240310T100000
END:DAYLIGHT
BEGIN:STANDARD
TZOFFSETFROM:-0700
TZOFFSETTO:-0800
TZNAME:PST
DTSTART:20241103T090000
END:STANDARD
BEGIN:DAYLIGHT
TZOFFSETFROM:-0800
TZOFFSETTO:-0700
TZNAME:PDT
DTSTART:20250309T100000
END:DAYLIGHT
BEGIN:STANDARD
TZOFFSETFROM:-0700
TZOFFSETTO:-0800
TZNAME:PST
DTSTART:20251102T090000
END:STANDARD
BEGIN:DAYLIGHT
TZOFFSETFROM:-0800
TZOFFSETTO:-0700
TZNAME:PDT
DTSTART:20260308T100000
END:DAYLIGHT
BEGIN:STANDARD
TZOFFSETFROM:-0700
TZOFFSETTO:-0800
TZNAME:PST
DTSTART:20261101T090000
END:STANDARD
END:VTIMEZONE
BEGIN:VEVENT
DTSTART;VALUE=DATE:20251027
DTEND;VALUE=DATE:20251029
DTSTAMP:20260424T131844
CREATED:20250716T231520Z
LAST-MODIFIED:20251001T235111Z
UID:51605-1761534000-1761620399@www.asla-sandiego.org
SUMMARY:ASLA San Diego Annual Golf Tournament
DESCRIPTION:On October 27\, 2025\, the ASLA San Diego Chapter will be hosting its annual Golf Tournament at Maderas Golf Club in Poway. Maderas offers superior playing conditions\, 40 acres of natural terrain and unparalleled course conditions for a unique golfing experience. Join us for our annual golf tournament as a player or a sponsor or both. \nLocation: Maderas Golf Club\, 17750 Old Coach Road\, Poway\, CA 92064\nDate and time: Monday\, October 27\, 2025\, 8 am check-in\, 10 am shot-gun start\nOrganizer: Amy Conrad\, aslasd@asla-sd.org \nMore details\, registration and cost can be found here:\nhttps://lp.constantcontactpages.com/ev/reg/2enm2jk/lp/b0e3d4f2-3a44-45fe-bbd2-ddf4724aa817 \nTHIS EVENT GENEROUSLY SPONSORED BY:
URL:https://www.asla-sandiego.org/event/asla-san-diego-annual-golf-tournament/
LOCATION:Maderas Golf Club\, 17750 Old Coach Road\, Poway\, CA\, 92064\, United States
CATEGORIES:Chapter Event,Golf Tournament
ATTACH;FMTTYPE=image/jpeg:https://www.asla-sandiego.org/aslasdwp/wp-content/uploads/2025/07/golf-tourney-2024.jpeg
END:VEVENT
END:VCALENDAR