BEGIN:VCALENDAR
VERSION:2.0
PRODID:-//San Diego Chapter American Society Of Landscape Architects - ECPv6.15.20//NONSGML v1.0//EN
CALSCALE:GREGORIAN
METHOD:PUBLISH
X-WR-CALNAME:San Diego Chapter American Society Of Landscape Architects
X-ORIGINAL-URL:https://www.asla-sandiego.org
X-WR-CALDESC:Events for San Diego Chapter American Society Of Landscape Architects
REFRESH-INTERVAL;VALUE=DURATION:PT1H
X-Robots-Tag:noindex
X-PUBLISHED-TTL:PT1H
BEGIN:VTIMEZONE
TZID:America/Los_Angeles
BEGIN:DAYLIGHT
TZOFFSETFROM:-0800
TZOFFSETTO:-0700
TZNAME:PDT
DTSTART:20160313T100000
END:DAYLIGHT
BEGIN:STANDARD
TZOFFSETFROM:-0700
TZOFFSETTO:-0800
TZNAME:PST
DTSTART:20161106T090000
END:STANDARD
BEGIN:DAYLIGHT
TZOFFSETFROM:-0800
TZOFFSETTO:-0700
TZNAME:PDT
DTSTART:20170312T100000
END:DAYLIGHT
BEGIN:STANDARD
TZOFFSETFROM:-0700
TZOFFSETTO:-0800
TZNAME:PST
DTSTART:20171105T090000
END:STANDARD
BEGIN:DAYLIGHT
TZOFFSETFROM:-0800
TZOFFSETTO:-0700
TZNAME:PDT
DTSTART:20180311T100000
END:DAYLIGHT
BEGIN:STANDARD
TZOFFSETFROM:-0700
TZOFFSETTO:-0800
TZNAME:PST
DTSTART:20181104T090000
END:STANDARD
END:VTIMEZONE
BEGIN:VEVENT
DTSTART;TZID=America/Los_Angeles:20170527T100000
DTEND;TZID=America/Los_Angeles:20170527T150000
DTSTAMP:20260425T192116
CREATED:20170519T233850Z
LAST-MODIFIED:20170519T233850Z
UID:15030-1495879200-1495897200@www.asla-sandiego.org
SUMMARY:Fiesta Botanica in Balboa Park
DESCRIPTION:Celebrate all things botanical and come by the ASLA San Diego booth to enter our drawing for one of many native and low water plants. The event runs from 10 am to 3 pm in the Balboa Park Prado area. \nBooths from many botanical\, garden and Balboa Park organizations will be on display to share their organization’s information and displays featuring themes of gardening\, the environment\, conservation and sustainability. \nFor more information or to help staff the ASLA Booth\, contact Jennifer Webster\, VP of Community Outreach at jenwebster@precisionlandscapeinc.com
URL:https://www.asla-sandiego.org/event/fiesta-botanica-balboa-park/
LOCATION:Casa del Prado\, 1549 El Prado\, Alhambra Rm\, San Diego\, CA\, 92101
CATEGORIES:Community Outreach
END:VEVENT
END:VCALENDAR