BEGIN:VCALENDAR
VERSION:2.0
PRODID:-//San Diego Chapter American Society Of Landscape Architects - ECPv6.15.20//NONSGML v1.0//EN
CALSCALE:GREGORIAN
METHOD:PUBLISH
X-WR-CALNAME:San Diego Chapter American Society Of Landscape Architects
X-ORIGINAL-URL:https://www.asla-sandiego.org
X-WR-CALDESC:Events for San Diego Chapter American Society Of Landscape Architects
REFRESH-INTERVAL;VALUE=DURATION:PT1H
X-Robots-Tag:noindex
X-PUBLISHED-TTL:PT1H
BEGIN:VTIMEZONE
TZID:America/Los_Angeles
BEGIN:DAYLIGHT
TZOFFSETFROM:-0800
TZOFFSETTO:-0700
TZNAME:PDT
DTSTART:20160313T100000
END:DAYLIGHT
BEGIN:STANDARD
TZOFFSETFROM:-0700
TZOFFSETTO:-0800
TZNAME:PST
DTSTART:20161106T090000
END:STANDARD
BEGIN:DAYLIGHT
TZOFFSETFROM:-0800
TZOFFSETTO:-0700
TZNAME:PDT
DTSTART:20170312T100000
END:DAYLIGHT
BEGIN:STANDARD
TZOFFSETFROM:-0700
TZOFFSETTO:-0800
TZNAME:PST
DTSTART:20171105T090000
END:STANDARD
BEGIN:DAYLIGHT
TZOFFSETFROM:-0800
TZOFFSETTO:-0700
TZNAME:PDT
DTSTART:20180311T100000
END:DAYLIGHT
BEGIN:STANDARD
TZOFFSETFROM:-0700
TZOFFSETTO:-0800
TZNAME:PST
DTSTART:20181104T090000
END:STANDARD
BEGIN:DAYLIGHT
TZOFFSETFROM:-0800
TZOFFSETTO:-0700
TZNAME:PDT
DTSTART:20190310T100000
END:DAYLIGHT
BEGIN:STANDARD
TZOFFSETFROM:-0700
TZOFFSETTO:-0800
TZNAME:PST
DTSTART:20191103T090000
END:STANDARD
BEGIN:DAYLIGHT
TZOFFSETFROM:-0800
TZOFFSETTO:-0700
TZNAME:PDT
DTSTART:20200308T100000
END:DAYLIGHT
BEGIN:STANDARD
TZOFFSETFROM:-0700
TZOFFSETTO:-0800
TZNAME:PST
DTSTART:20201101T090000
END:STANDARD
BEGIN:DAYLIGHT
TZOFFSETFROM:-0800
TZOFFSETTO:-0700
TZNAME:PDT
DTSTART:20210314T100000
END:DAYLIGHT
BEGIN:STANDARD
TZOFFSETFROM:-0700
TZOFFSETTO:-0800
TZNAME:PST
DTSTART:20211107T090000
END:STANDARD
BEGIN:DAYLIGHT
TZOFFSETFROM:-0800
TZOFFSETTO:-0700
TZNAME:PDT
DTSTART:20220313T100000
END:DAYLIGHT
BEGIN:STANDARD
TZOFFSETFROM:-0700
TZOFFSETTO:-0800
TZNAME:PST
DTSTART:20221106T090000
END:STANDARD
BEGIN:DAYLIGHT
TZOFFSETFROM:-0800
TZOFFSETTO:-0700
TZNAME:PDT
DTSTART:20230312T100000
END:DAYLIGHT
BEGIN:STANDARD
TZOFFSETFROM:-0700
TZOFFSETTO:-0800
TZNAME:PST
DTSTART:20231105T090000
END:STANDARD
BEGIN:DAYLIGHT
TZOFFSETFROM:-0800
TZOFFSETTO:-0700
TZNAME:PDT
DTSTART:20240310T100000
END:DAYLIGHT
BEGIN:STANDARD
TZOFFSETFROM:-0700
TZOFFSETTO:-0800
TZNAME:PST
DTSTART:20241103T090000
END:STANDARD
BEGIN:DAYLIGHT
TZOFFSETFROM:-0800
TZOFFSETTO:-0700
TZNAME:PDT
DTSTART:20250309T100000
END:DAYLIGHT
BEGIN:STANDARD
TZOFFSETFROM:-0700
TZOFFSETTO:-0800
TZNAME:PST
DTSTART:20251102T090000
END:STANDARD
BEGIN:DAYLIGHT
TZOFFSETFROM:-0800
TZOFFSETTO:-0700
TZNAME:PDT
DTSTART:20260308T100000
END:DAYLIGHT
BEGIN:STANDARD
TZOFFSETFROM:-0700
TZOFFSETTO:-0800
TZNAME:PST
DTSTART:20261101T090000
END:STANDARD
END:VTIMEZONE
BEGIN:VTIMEZONE
TZID:America/New_York
BEGIN:DAYLIGHT
TZOFFSETFROM:-0500
TZOFFSETTO:-0400
TZNAME:EDT
DTSTART:20160313T070000
END:DAYLIGHT
BEGIN:STANDARD
TZOFFSETFROM:-0400
TZOFFSETTO:-0500
TZNAME:EST
DTSTART:20161106T060000
END:STANDARD
BEGIN:DAYLIGHT
TZOFFSETFROM:-0500
TZOFFSETTO:-0400
TZNAME:EDT
DTSTART:20170312T070000
END:DAYLIGHT
BEGIN:STANDARD
TZOFFSETFROM:-0400
TZOFFSETTO:-0500
TZNAME:EST
DTSTART:20171105T060000
END:STANDARD
BEGIN:DAYLIGHT
TZOFFSETFROM:-0500
TZOFFSETTO:-0400
TZNAME:EDT
DTSTART:20180311T070000
END:DAYLIGHT
BEGIN:STANDARD
TZOFFSETFROM:-0400
TZOFFSETTO:-0500
TZNAME:EST
DTSTART:20181104T060000
END:STANDARD
END:VTIMEZONE
BEGIN:VEVENT
DTSTART;VALUE=DATE:20251010
DTEND;VALUE=DATE:20251015
DTSTAMP:20260423T101050
CREATED:20250716T192739Z
LAST-MODIFIED:20250716T231713Z
UID:55480-1760065200-1760410799@www.asla-sandiego.org
SUMMARY:ASLA National Conference - New Orleans\, LA
DESCRIPTION:More details and registration: \nhttps://www.aslaconference.com/
URL:https://www.asla-sandiego.org/event/asla-national-conference-new-orleans-la/
CATEGORIES:ASLA National Event
ATTACH;FMTTYPE=image/jpeg:https://www.asla-sandiego.org/aslasdwp/wp-content/uploads/2025/07/alsa-conference-2025.jpg
END:VEVENT
BEGIN:VEVENT
DTSTART;TZID=America/Los_Angeles:20250717T100000
DTEND;TZID=America/Los_Angeles:20250717T110000
DTSTAMP:20260423T101050
CREATED:20250617T225000Z
LAST-MODIFIED:20250617T225000Z
UID:53910-1752746400-1752750000@www.asla-sandiego.org
SUMMARY:FREE WEBINAR: 2025 Pulse Check: Business Strategies and Market Shifts in Landscape Architecture - 1.0 PDH (LA CES/non-HSW)
DESCRIPTION:Join a dynamic roundtable discussion with firm leaders featured in the 2024 ASLA Landscape Architecture Industry Report as we explore key trends and uncover new developments shaping the profession in 2025. Since the initial interviews conducted in mid-2024\, the landscape has continued to evolve—from changing economic conditions and shifting client priorities to workforce challenges and supply chain dynamics. \nThis conversation will explore how firms are adapting in real time\, what strategies are working\, and where the profession may be headed next. Don’t miss this opportunity to hear candid insights from leaders across the field and contribute your own perspective on what’s emerging\, what’s shifting\, and what’s next. \nLearning Objectives:   \nBy the end of this session\, participants will be able to:  \n\nAnalyze how firm leaders are responding to economic conditions in 2025\, including new business strategies\, service pivots\, and client engagement approaches.\nEvaluate current challenges and solutions related to employee recruitment and retention\, workplace culture\, and emerging professional support. \nIdentify key shifts in construction costs\, materials\, and client priorities—and how firms are managing expectations\, timelines\, and project types in response. \n\nDETAILS + REGISTRATION CLICK HERE
URL:https://www.asla-sandiego.org/event/free-webinar-2025-pulse-check-business-strategies-and-market-shifts-in-landscape-architecture-1-0-pdh-la-ces-non-hsw/
CATEGORIES:ASLA National Event,Education
ATTACH;FMTTYPE=image/jpeg:https://www.asla-sandiego.org/aslasdwp/wp-content/uploads/2025/06/webinar.jpg
ORGANIZER;CN="ASLA National":MAILTO:kbland@asla.org
END:VEVENT
BEGIN:VEVENT
DTSTART;TZID=America/Los_Angeles:20250716T100000
DTEND;TZID=America/Los_Angeles:20250716T110000
DTSTAMP:20260423T101050
CREATED:20250617T222902Z
LAST-MODIFIED:20250617T222902Z
UID:53908-1752660000-1752663600@www.asla-sandiego.org
SUMMARY:FREE WEBINAR: Artificial Intelligence: It's in Your Firm (Whether You Know It or Not) - 1.0 PDH (LA CES/non-HSW)
DESCRIPTION:The time of AI is upon us.  While many are not worried about this buzzword\, many firms are embracing the technology and doing what they can to get ahead of what seems inevitable. During this session\, we will examine what is going on with AI\, what are people using\, what can be done\, and how will this impact our lives.  We will examine the insurability ramifications\, and privacy concerns the leveraging of AI may create.  Finally\, if you think your firm isn’t already leveraging this\, you may be wrong. We will talk about strategies others have put in place to help manage internally and externally the use of the evolving technology. \nLearning Objectives: \nAt the end of course participants will be able to: \n\nIdentify and explain applicable artificial intelligence systems for a design professional and how it impacts the firm’s every day.\nAnalyze the impacts the leveraging of artificial intelligence may have on the firm\, with focus from a risk and liability point of view.\nEvaluate and plan how you will leverage this technology while assessing the risk and heightened standard of care this may create.\nRecognize the risk associated with the AI use and determine the situation in which each type should be used.\n\nDETAILS + REGISTRATION CLICK HERE
URL:https://www.asla-sandiego.org/event/free-webinar-artificial-intelligence-its-in-your-firm-whether-you-know-it-or-not-1-0-pdh-la-ces-non-hsw/
CATEGORIES:ASLA National Event,Education
ATTACH;FMTTYPE=image/jpeg:https://www.asla-sandiego.org/aslasdwp/wp-content/uploads/2025/06/webinar.jpg
ORGANIZER;CN="ASLA National":MAILTO:kbland@asla.org
END:VEVENT
BEGIN:VEVENT
DTSTART;TZID=America/Los_Angeles:20250626T100000
DTEND;TZID=America/Los_Angeles:20250626T110000
DTSTAMP:20260423T101050
CREATED:20250617T222655Z
LAST-MODIFIED:20250617T225044Z
UID:53905-1750932000-1750935600@www.asla-sandiego.org
SUMMARY:FREE Webinar: Local Leadership on Climate and Biodiversity: Lessons from Nunavut\, Vancouver\, and Toronto - 1.0 PDH (LA CES/HSW)
DESCRIPTION:Hear from Canadian landscape architects working in local and regional government on how to overcome national obstacles and advance biodiversity and climate goals. Learn about Nunavut’s Climate Adaptation Plan\, Vancouver’s Blue Green systems\, and Toronto’s performance requirements for low carbon\, resilient\, and biodiverse development – which have all been led by landscape architects. Discover new ways to move forward policy and action in an equitable way at the local and regional levels. \nLearning objectives: \n\nUnderstand how climate and biodiversity policies are developed at the national\, regional\, and local levels in Canada\nGain insight into equitable planning and design strategies that involve Indigenous and underserved communities\nUnderstand how Canadian landscape architects in public practice are developing policies at the regional and local levels on climate adaptation\, biodiversity\, green infrastructure\, and water and land resource management\n\nDETAILS + REGISTRATION CLICK HERE
URL:https://www.asla-sandiego.org/event/free-webinar-local-leadership-on-climate-and-biodiversity-lessons-from-nunavut-vancouver-and-toronto-1-0-pdh-la-ces-hsw/
CATEGORIES:ASLA National Event,Education
ATTACH;FMTTYPE=image/jpeg:https://www.asla-sandiego.org/aslasdwp/wp-content/uploads/2025/06/webinar.jpg
ORGANIZER;CN="ASLA National":MAILTO:kbland@asla.org
END:VEVENT
BEGIN:VEVENT
DTSTART;TZID=America/Los_Angeles:20230306T080000
DTEND;TZID=America/Los_Angeles:20230324T170000
DTSTAMP:20260423T101050
CREATED:20230217T005133Z
LAST-MODIFIED:20230217T005734Z
UID:20921-1678089600-1679677200@www.asla-sandiego.org
SUMMARY:Instagram Takeover Sign Ups for April World Landscape Architecture Month
DESCRIPTION:Sign up for remaining 16 spots at the following link \nhttps://bit.ly/ASLASD_IGTO23
URL:https://www.asla-sandiego.org/event/instagram-takeover-sign-ups-for-april-world-landscape-architecture-month/
LOCATION:Online
CATEGORIES:ASLA National Event,Social Media
ORGANIZER;CN="Karen Kennedy":MAILTO:karenkennedy8@gmail.com
END:VEVENT
BEGIN:VEVENT
DTSTART;TZID=America/Los_Angeles:20220331T080000
DTEND;TZID=America/Los_Angeles:20220429T170000
DTSTAMP:20260423T101050
CREATED:20220331T221105Z
LAST-MODIFIED:20220331T223946Z
UID:20159-1648713600-1651251600@www.asla-sandiego.org
SUMMARY:Instagram Takeover - World Landscape Architecture Month
DESCRIPTION:            It’s back! Our 4th annual ASLA-San Diego                Instagram Takeover kicks off Monday\, April 4th\nIn celebration of World Landscape Architecture Month\, we’re once again handing over the reins of our IG account to local ASLA firms and partners for the month of April. It’s a great opportunity to showcase your work to our 2700+ Instagram followers and beyond. \nHOW IT WORKS: \n\nSign up for your preferred date here: https://bit.ly/ASLASD_IGTO22\nPrepare 6-8 posts to upload throughout your takeover day; to be eligible for the National ASLA contest\, see guidelines below\nStories & reels are unlimited\nFull guidelines available on the 2nd tab of the sign-up link; We’ll send out a reminder email a few days before your date\n\nNATIONAL ASLA WLAM CONTEST: \nIn lieu of an Instagram Takeover of their own\, National is hosting a contest with the theme\, \nWHAT IS LANDSCAPE ARCHITECTURE? \nEach individual post that meets the following requirements will be considered one entry. The top 5 posts from April 4-22 from all Chapters\, as determined by number of likes and comments\, will be reposted on their account during the last week of April. \nFor a post to qualify\, it must include: \n\na photo or image that illustrates what landscape architecture is\nthe WLAM logo (see logos above and below)\nhashtag #WLAM2022 in the caption\n\nYou are welcome to participate in our IGTO without meeting the National guidelines (it’s an added bonus). Only 17 first come\, first serve spots are available\, so I encourage you to secure yours ASAP at: https://bit.ly/ASLASD_IGTO22 \nQuestions? Email me. I’m here to help!  karenkennedy8@gmail.com \nKaren Kennedy\, PLA\, SITES AP\, ASLA-SD IGTO Coordinator \n 
URL:https://www.asla-sandiego.org/event/instagram-takeover-world-landscape-architecture-month/
LOCATION:Online
CATEGORIES:ASLA National Event,Chapter Event,social,Social Media
ORGANIZER;CN="Karen Kennedy":MAILTO:karenkennedy8@gmail.com
END:VEVENT
BEGIN:VEVENT
DTSTART;TZID=America/Los_Angeles:20211119T080000
DTEND;TZID=America/Los_Angeles:20211122T170000
DTSTAMP:20260423T101050
CREATED:20201217T011458Z
LAST-MODIFIED:20201217T011530Z
UID:19013-1637308800-1637600400@www.asla-sandiego.org
SUMMARY:ASLA Conference on Landscape Architecture Nov 19-22\, 2021 Nashville\, TN
DESCRIPTION:ASLA Conference on Landscape Architecture Nov 19-22\, 2021  Nashville\, TN
URL:https://www.asla-sandiego.org/event/asla-conference-on-landscape-architecture-nov-19-22-2021-nashville-tn/
CATEGORIES:ASLA National Event
END:VEVENT
BEGIN:VEVENT
DTSTART;TZID=America/Los_Angeles:20210624T080000
DTEND;TZID=America/Los_Angeles:20210724T170000
DTSTAMP:20260423T101050
CREATED:20210402T234229Z
LAST-MODIFIED:20210521T140438Z
UID:19344-1624521600-1627146000@www.asla-sandiego.org
SUMMARY:2021 ASLA Conference on Landscape Architecture - Registration and Housing Reservation
DESCRIPTION:2021 ASLA Conference on Landscape Architecture \nRegistration and Housing Reservation Contact \nASLA Conference General Information:\nKelli Bland\, Director\, Meetings & Special Programs\nkbland@asla.org
URL:https://www.asla-sandiego.org/event/registration-and-housing-reservation-for-2021-asla-conference-on-landscape-architecture/
LOCATION:Online
CATEGORIES:ASLA National Event
ATTACH;FMTTYPE=image/jpeg:https://www.asla-sandiego.org/aslasdwp/wp-content/uploads/2021/04/2021AnnualMeeting-Nashville.jpg
ORGANIZER;CN="ASLA National":MAILTO:kbland@asla.org
END:VEVENT
BEGIN:VEVENT
DTSTART;TZID=America/Los_Angeles:20201116T150000
DTEND;TZID=America/Los_Angeles:20201118T170000
DTSTAMP:20260423T101050
CREATED:20200920T220312Z
LAST-MODIFIED:20201004T213708Z
UID:18672-1605538800-1605718800@www.asla-sandiego.org
SUMMARY:Re-Vision Conference on Landscape Architecture   Nov 16-18
DESCRIPTION:Conference on Landscape Architecture Nov 16-18\n  \n“This event – as always – is the most important and rewarding gathering of landscape architects anywhere.” ASLA President Wendy Miller\, FASLA \nThe annual ASLA Conference on Landscape Architecture is the only conference in the world dedicated to the landscape architecture profession. We feature premier speakers\, field sessions highlighting local landscape architecture\, book signings\, ASLA Professional & Student Award winners\, and hundreds of education opportunities. The ASLA EXPO highlights the latest and most ground-breaking products and innovative designs and technologies in the field. The EXPO is also host to the popular “Explore the Floor” tours. Register at https://www.aslaconference.com
URL:https://www.asla-sandiego.org/event/re-vision-conference-on-landscape-architecture-nov-16-18/
LOCATION:Online
CATEGORIES:ASLA National Event
ORGANIZER;CN="Jacquelyn Bianchini":MAILTO:jbianchini@asla.org
END:VEVENT
BEGIN:VEVENT
DTSTART;TZID=America/Los_Angeles:20190501T080000
DTEND;TZID=America/Los_Angeles:20190504T170000
DTSTAMP:20260423T101050
CREATED:20190118T222507Z
LAST-MODIFIED:20190218T234943Z
UID:16753-1556697600-1556989200@www.asla-sandiego.org
SUMMARY:CPC/Trustee Advocacy Training Meeting-New Trustee Orientation and Dinner
DESCRIPTION:May 1-CPC/Trustee Advocacy Training Meeting (3:30-5:30 pm)\, Washington\, D.C \nMay 1-New Trustee Orientation and Dinner (6:30 – 8:30 pm)\, Washington\, D.C. \nMay 2-Advocacy Day (7 am – 8 pm)\, Washington\, D.C. \nMay 3-CPC/Trustee Meetings (7 am – 5 pm)\, Washington\, D.C. \nMay 4-CPC Meeting (7 am – 1 pm)\, Washington\, D.C. \nMay 4-Trustee Meeting (7 am – 5 pm)\, Washington\, D.C. \n 
URL:https://www.asla-sandiego.org/event/cpc-trustee-advocacy-training-meeting-new-trustee-orientation-and-dinner/
LOCATION:ASLA National\, Washington D.C.\, DC\, 90002\, United States
CATEGORIES:ASLA National Event
ORGANIZER;CN="ASLA National":MAILTO:kbland@asla.org
END:VEVENT
BEGIN:VEVENT
DTSTART;TZID=America/Los_Angeles:20190121T080000
DTEND;TZID=America/Los_Angeles:20190123T170000
DTSTAMP:20260423T101050
CREATED:20190121T193520Z
LAST-MODIFIED:20190121T194809Z
UID:16769-1548057600-1548262800@www.asla-sandiego.org
SUMMARY:ASLA National Meeting - Call For Presentations - Due January 23
DESCRIPTION:2019 ASLA Conference on Landscape Architecture\nCall for Presentations/Field Sessions\n\n\nCloses January 23 \nSend initial Ed and Field Session Ideas to\nHost Committee Co-Chairs at this LINK\n \nFinal Entries must be submitted \nvia the ASLA national website portal at this LINK \n \nSee attached guidelines and examples of \n\n2018 Philadelphia and 2011 San Diego\nEducation and Field Sessions\n \nEd/Field Session Guidelines\nEd/Field Session 2018 Philadelphia Examples\nEd/Field Session 2011 San Diego Examples\n\n\nContact Susan Apollonio (SApollonio@asla.org)\nwith any technical  questions\n\n \n 
URL:https://www.asla-sandiego.org/event/asla-national-meeting-call-for-presentations-due-january-23/
LOCATION:ASLA National\, Washington D.C.\, DC\, 90002\, United States
CATEGORIES:ASLA National Event
END:VEVENT
BEGIN:VEVENT
DTSTART;VALUE=DATE:20181202
DTEND;VALUE=DATE:20181216
DTSTAMP:20260423T101050
CREATED:20181202T220718Z
LAST-MODIFIED:20181202T221127Z
UID:16620-1543719600-1544842799@www.asla-sandiego.org
SUMMARY:2019 ASLA Conference - Call for Presentations
DESCRIPTION:2019 ASLA Conference on Landscape Architecture\n\n\nCall for Presentations Open on December 11\nSee attached guidelines and examples of \n2018 Philadelphia and 2011 San Diego Education and Field Sessions\nEd/Field Session Guidelines\nEd/Field Session Philadelphia Examples\nEd/Field Session San Diego Examples\nWe’re still looking for volunteers!\nSend the attached 2019 Conference Volunteer Form\nto ASLASD@sbcglobal.net \nContact Susan Apollonio SApollonio@asla.org\nafter December 11 for more information\nCheck this page after December 14 for Entry Links and Guidelines
URL:https://www.asla-sandiego.org/event/2019-asla-conference-call-for-presentations/
CATEGORIES:ASLA National Event,Volunteer Opportunities
END:VEVENT
BEGIN:VEVENT
DTSTART;TZID=America/Los_Angeles:20180917T080000
DTEND;TZID=America/Los_Angeles:20181129T200000
DTSTAMP:20260423T101050
CREATED:20180913T231135Z
LAST-MODIFIED:20180913T231740Z
UID:16488-1537171200-1543521600@www.asla-sandiego.org
SUMMARY:2019 ASLA San Diego National Meeting Kickoff Event
DESCRIPTION:We are pleased to announce that San Diego was chosen to be the location of the  \n2019 ASLA Conference and Expo. \n  \nThe Chapter is forming a Host Committee and encourages you to join one of several committees that will help the ASLA San Diego showcase the great work of San Diego landscape architects and the rich culture of the San Diego Region. \n  \nCheck back to this page for opportunities to participate in the ASLA national conference \nand please add the following information to your calendar to join us on \nThursday\, November 29 for the Conference Kickoff Event. \n  \nASLA Host Committee Kickoff Event \nMarriott La Jolla \n4240 La Jolla Village Dr\, La Jolla\, CA 92037 \nThursday\, November 29 from 6 to 8 pm \nDiscounted Parking – $8 \nRSVP to ASLASD@sbcglobal.net
URL:https://www.asla-sandiego.org/event/2019-asla-san-diego-national-meeting-kickoff-event/
LOCATION:San Diego Marriott La Jolla\, 4240 La Jolla Village Drive\, La Jolla\, CA\, 92037
CATEGORIES:ASLA National Event
ORGANIZER;CN="Tracy Morgan Hollingworth":MAILTO:aslasd@sbcglobal.net
END:VEVENT
BEGIN:VEVENT
DTSTART;TZID=America/Los_Angeles:20180705T090000
DTEND;TZID=America/Los_Angeles:20180815T170000
DTSTAMP:20260423T101050
CREATED:20180705T224521Z
LAST-MODIFIED:20180709T143409Z
UID:16363-1530781200-1534352400@www.asla-sandiego.org
SUMMARY:2019 ASLA National Meeting in San Diego
DESCRIPTION:2019 ASLA Annual Meeting and Expo\nLargest Gathering of Landscape Architecture Professionals and Students in the world\nJoin us in welcoming the ASLA Annual Meeting and EXPO back to San Diego in 2019.  Once again\, the San Diego Chapter has an opportunity to be a host to a national landscape architecture audience in Southern California.\nAs host Chapter we will be looking to our members to volunteer and get involved.  There are many opportunities for everyone to participate.  One of the first items we will need to do is establish a host committee with Co-Chair Committee Leaders to coordinate and lead the effort required for a successful meeting.\nThe Chapter will be hosting a general information meeting in the near future with sign-up sheets for volunteers.  If you are interested in volunteering as a Host Committee Co-Chair or to assist wit the Chapter Host Booth\, Field Sessions\, Education Sessions or Expo\, please send your name\, firm name and email to ASLASD@sbcgobal.net by August 15.\nFor more information: Joe Esposito @ 619.236.0143\nE-mail:  jesposito@estradalandplan.com\n  \n 
URL:https://www.asla-sandiego.org/event/2019-asla-national-meeting-in-san-diego/
LOCATION:ASLA Office\, 1050 Rosecrans St\, Ste B\, San Diego\, CA\, 92106\, United States
CATEGORIES:ASLA National Event
ATTACH;FMTTYPE=image/jpeg:https://www.asla-sandiego.org/aslasdwp/wp-content/uploads/2018/07/SD-ASLA-Annual-Mtg-Image.jpg
ORGANIZER;CN="Joe Esposito":MAILTO:jesposito@estradalandplan.com
END:VEVENT
BEGIN:VEVENT
DTSTART;TZID=America/Los_Angeles:20171021T080000
DTEND;TZID=America/Los_Angeles:20171023T170000
DTSTAMP:20260423T101050
CREATED:20170228T211652Z
LAST-MODIFIED:20171012T210057Z
UID:14852-1508572800-1508778000@www.asla-sandiego.org
SUMMARY:ASLA National Annual Meeting\, Los Angeles
DESCRIPTION:ASLA National Annual Meeting and Expo: Los Angeles Convention Center\, 1201 S. Figueroa Street\, Los Angeles\, CA 90015. For more information\, go to www.asla.org
URL:https://www.asla-sandiego.org/event/asla-national-annual-meeting-los-angeles/
CATEGORIES:ASLA National Event
END:VEVENT
BEGIN:VEVENT
DTSTART;TZID=America/Los_Angeles:20171019T070000
DTEND;TZID=America/Los_Angeles:20171020T170000
DTSTAMP:20260423T101050
CREATED:20170228T211306Z
LAST-MODIFIED:20171012T210242Z
UID:14850-1508396400-1508518800@www.asla-sandiego.org
SUMMARY:ASLA National Chapter President’s Council (CPC) Meeting\, Los Angeles
DESCRIPTION:ASLA National Chapter President’s Council (CPC) and National Board of Trustees Meeting: JW Marriott\, 900 W. Olympic Blvd.\, Los Angeles\, CA 90015. \nFor more information\, go to www.ASLA.org
URL:https://www.asla-sandiego.org/event/asla-national-chapter-presidents-council-cpc-meeting-los-angeles/
CATEGORIES:ASLA National Event
END:VEVENT
BEGIN:VEVENT
DTSTART;TZID=America/New_York:20170426T080000
DTEND;TZID=America/New_York:20170429T170000
DTSTAMP:20260423T101050
CREATED:20170228T201634Z
LAST-MODIFIED:20170228T201634Z
UID:14828-1493193600-1493485200@www.asla-sandiego.org
SUMMARY:ASLA National Chapter President's Council (CPC) Meeting\, Washington D.C.
DESCRIPTION:ASLA National Chapter President’s Council (CPC)/Trustee Meeting and Advocacy Day. For more information\, go to www.ASLA.org \n 
URL:https://www.asla-sandiego.org/event/asla-national-chapter-presidents-council-cpc-meeting-washington-d-c/
CATEGORIES:ASLA National Event
END:VEVENT
END:VCALENDAR